BEGIN:VCALENDAR
VERSION:2.0
PRODID:-//Navarra en Femenino - ECPv6.15.20//NONSGML v1.0//EN
CALSCALE:GREGORIAN
METHOD:PUBLISH
X-WR-CALNAME:Navarra en Femenino
X-ORIGINAL-URL:https://navarraenfemenino.com
X-WR-CALDESC:Eventos para Navarra en Femenino
REFRESH-INTERVAL;VALUE=DURATION:PT1H
X-Robots-Tag:noindex
X-PUBLISHED-TTL:PT1H
BEGIN:VTIMEZONE
TZID:Europe/Madrid
BEGIN:DAYLIGHT
TZOFFSETFROM:+0100
TZOFFSETTO:+0200
TZNAME:CEST
DTSTART:20200329T010000
END:DAYLIGHT
BEGIN:STANDARD
TZOFFSETFROM:+0200
TZOFFSETTO:+0100
TZNAME:CET
DTSTART:20201025T010000
END:STANDARD
BEGIN:DAYLIGHT
TZOFFSETFROM:+0100
TZOFFSETTO:+0200
TZNAME:CEST
DTSTART:20210328T010000
END:DAYLIGHT
BEGIN:STANDARD
TZOFFSETFROM:+0200
TZOFFSETTO:+0100
TZNAME:CET
DTSTART:20211031T010000
END:STANDARD
BEGIN:DAYLIGHT
TZOFFSETFROM:+0100
TZOFFSETTO:+0200
TZNAME:CEST
DTSTART:20220327T010000
END:DAYLIGHT
BEGIN:STANDARD
TZOFFSETFROM:+0200
TZOFFSETTO:+0100
TZNAME:CET
DTSTART:20221030T010000
END:STANDARD
BEGIN:DAYLIGHT
TZOFFSETFROM:+0100
TZOFFSETTO:+0200
TZNAME:CEST
DTSTART:20230326T010000
END:DAYLIGHT
BEGIN:STANDARD
TZOFFSETFROM:+0200
TZOFFSETTO:+0100
TZNAME:CET
DTSTART:20231029T010000
END:STANDARD
BEGIN:DAYLIGHT
TZOFFSETFROM:+0100
TZOFFSETTO:+0200
TZNAME:CEST
DTSTART:20240331T010000
END:DAYLIGHT
BEGIN:STANDARD
TZOFFSETFROM:+0200
TZOFFSETTO:+0100
TZNAME:CET
DTSTART:20241027T010000
END:STANDARD
END:VTIMEZONE
BEGIN:VEVENT
DTSTART;TZID=Europe/Madrid:20230319T190000
DTEND;TZID=Europe/Madrid:20230319T210000
DTSTAMP:20260421T110642
CREATED:20221205T012535Z
LAST-MODIFIED:20230216T094707Z
UID:1720-1679252400-1679259600@navarraenfemenino.com
SUMMARY:NAVARRA EN FEMENINO – SAN ADRIÁN
DESCRIPTION:
URL:https://navarraenfemenino.com/evento/navarra-en-femenino-san-adrian
LOCATION:Navarra
ATTACH;FMTTYPE=image/jpeg:https://navarraenfemenino.com/wp-content/uploads/2021/01/cartel-teatro-logo-rojo-e1646126159669.jpg
END:VEVENT
BEGIN:VEVENT
DTSTART;TZID=Europe/Madrid:20230114T200000
DTEND;TZID=Europe/Madrid:20230114T213000
DTSTAMP:20260421T110642
CREATED:20230110T180024Z
LAST-MODIFIED:20230120T095514Z
UID:1689-1673726400-1673731800@navarraenfemenino.com
SUMMARY:Navarra en Femenino - Peralta
DESCRIPTION:CASA DE CULTURA DE PERALTA\nDirección: c/Pablo Sarasate\,7 \nVenta de entradas: 3€ – Apertura de taquilla 19:00h.
URL:https://navarraenfemenino.com/evento/navarra-en-femenino-peralta
LOCATION:Casa de cultura Peralta\, c/Pablo Sarasate\,7\, Peralta\, Navarra\, 31350
ATTACH;FMTTYPE=image/jpeg:https://navarraenfemenino.com/wp-content/uploads/2023/01/WhatsApp-Image-2023-01-11-at-12.33.33.jpeg
END:VEVENT
BEGIN:VEVENT
DTSTART;TZID=Europe/Madrid:20221126T190000
DTEND;TZID=Europe/Madrid:20221126T210000
DTSTAMP:20260421T110642
CREATED:20221205T013213Z
LAST-MODIFIED:20221205T013231Z
UID:1723-1669489200-1669496400@navarraenfemenino.com
SUMMARY:NAVARRA EN FEMENINO – ORKOIEN
DESCRIPTION:Centro Cívico Orkoien \nC. 1 de Mayo\, 1\, 31160 OrKoien\, Navarra
URL:https://navarraenfemenino.com/evento/navarra-en-femenino-orkoien-2
LOCATION:Centro Cívico Orkoien\, C/ 1 de Mayo\, orkoien\, Navarra\, 31160\, España
ATTACH;FMTTYPE=image/jpeg:https://navarraenfemenino.com/wp-content/uploads/2022/12/PHOTO-2022-11-22-19-05-00.jpg
END:VEVENT
BEGIN:VEVENT
DTSTART;TZID=Europe/Madrid:20220313T191500
DTEND;TZID=Europe/Madrid:20220313T210000
DTSTAMP:20260421T110642
CREATED:20220301T091620Z
LAST-MODIFIED:20220301T091620Z
UID:1698-1647198900-1647205200@navarraenfemenino.com
SUMMARY:Navarra en Femenino - Azagra
DESCRIPTION:Precios de entradas para esta función (todos los precios incluyen IVA)\n\n\n\n\n\n\nAdulto\n3\,00 €\n\n\nJoven (hasta 17 años inclusive)\n2\,00 €
URL:https://navarraenfemenino.com/evento/navarra-en-femenino-azagra
LOCATION:Salón Actos CP Frco. Arbeloa/IESO Reyno Navarra\, Avenida Diputación\, 72\, Azagra\, Navarra\, 31560\, España
ATTACH;FMTTYPE=image/jpeg:https://navarraenfemenino.com/wp-content/uploads/2021/01/cartel-teatro-logo-rojo-e1646126159669.jpg
END:VEVENT
BEGIN:VEVENT
DTSTART;TZID=Europe/Madrid:20220306T190000
DTEND;TZID=Europe/Madrid:20220306T210000
DTSTAMP:20260421T110642
CREATED:20220301T090327Z
LAST-MODIFIED:20220301T090327Z
UID:1694-1646593200-1646600400@navarraenfemenino.com
SUMMARY:NAVARRA EN FEMENINO – CASCANTE
DESCRIPTION:Las entradas son gratuitas
URL:https://navarraenfemenino.com/evento/navarra-en-femenino-cascante
LOCATION:Centro Cultural Avenida\, Cascante\, Av. la Constitución\, 6\, Cascante\, Navarra\, 31520\, España
ATTACH;FMTTYPE=image/jpeg:https://navarraenfemenino.com/wp-content/uploads/2022/03/evento-foto1Url-621cae0b6e685-275010737_5022012491252499_5567852262995042416_n.jpg
END:VEVENT
BEGIN:VEVENT
DTSTART;TZID=Europe/Madrid:20211127T190000
DTEND;TZID=Europe/Madrid:20211127T203000
DTSTAMP:20260421T110642
CREATED:20210612T110419Z
LAST-MODIFIED:20211122T183616Z
UID:1648-1638039600-1638045000@navarraenfemenino.com
SUMMARY:Navarra en femenino - Carcar
DESCRIPTION:Las entradas se reservan en el Ayuntamiento de Carcar de Lunes a Viernes de 10:00 a 14:00.
URL:https://navarraenfemenino.com/evento/navarra-en-femenino-carcar
LOCATION:Centro Cultural la Caja – Carcar\, Calle monte 6\, Carcar\, Navarra\, 31579\, España
ATTACH;FMTTYPE=image/jpeg:https://navarraenfemenino.com/wp-content/uploads/2021/06/CARTEL-CARCAR.jpg
ORGANIZER;CN="Navarra en Femenino":MAILTO:info@navarraenfemenino.com
END:VEVENT
BEGIN:VEVENT
DTSTART;TZID=Europe/Madrid:20210620T193000
DTEND;TZID=Europe/Madrid:20210620T210000
DTSTAMP:20260421T110642
CREATED:20210612T111053Z
LAST-MODIFIED:20210613T101045Z
UID:1651-1624217400-1624222800@navarraenfemenino.com
SUMMARY:Navarra en Femenino - Monteagudo
DESCRIPTION:La entrada es gratuita\, presentarse el mismo día hasta completar aforo. \n 
URL:https://navarraenfemenino.com/evento/navarra-en-femenino-monteagudo
LOCATION:A.C.R Montitura – Casino\, Av. de San Agustín\, 8\, Monteagudo\, Navarra\, 31522\, España
ATTACH;FMTTYPE=image/jpeg:https://navarraenfemenino.com/wp-content/uploads/2021/06/TEATRO-Monteagudo.jpg
ORGANIZER;CN="Navarra en Femenino":MAILTO:info@navarraenfemenino.com
END:VEVENT
BEGIN:VEVENT
DTSTART;TZID=Europe/Madrid:20210529T190000
DTEND;TZID=Europe/Madrid:20210529T210000
DTSTAMP:20260421T110642
CREATED:20210329T143849Z
LAST-MODIFIED:20210505T095049Z
UID:1575-1622314800-1622322000@navarraenfemenino.com
SUMMARY:Navarra en Femenino - Iturrama
DESCRIPTION:Ya están a la venta. Puedes reservarlas a través de los teléfonos 010 ó 948 420 100. \n  \n 
URL:https://navarraenfemenino.com/evento/navarra-en-femenino-iturrama
LOCATION:Civivox Iturrama\, Calle Esquíroz\, 24\, Pamplona\, Navarra\, 31007\, España
ATTACH;FMTTYPE=image/jpeg:https://navarraenfemenino.com/wp-content/uploads/2021/01/cartel-teatro-logo-rojo-e1646126159669.jpg
ORGANIZER;CN="Navarra en Femenino":MAILTO:info@navarraenfemenino.com
END:VEVENT
BEGIN:VEVENT
DTSTART;TZID=Europe/Madrid:20210515T190000
DTEND;TZID=Europe/Madrid:20210515T210000
DTSTAMP:20260421T110642
CREATED:20210329T143138Z
LAST-MODIFIED:20210510T194230Z
UID:1573-1621105200-1621112400@navarraenfemenino.com
SUMMARY:Navarra en Femenino - Caparroso
DESCRIPTION:La reserva de entradas se realizará de lunes a viernes de 10:00 a 13:00 y  de 16:00 a 21:00. (jueves cerrado). \n 
URL:https://navarraenfemenino.com/evento/navarra-en-femenino-caparroso
LOCATION:Casa Cultural de Caparroso ‘Joaquin Luqui’\, Av. de Navarra\, 56\, Caparroso\, Navarra\, 31380
ATTACH;FMTTYPE=image/jpeg:https://navarraenfemenino.com/wp-content/uploads/2021/01/cartel-teatro-logo-rojo-e1646126159669.jpg
ORGANIZER;CN="Navarra en Femenino":MAILTO:info@navarraenfemenino.com
END:VEVENT
BEGIN:VEVENT
DTSTART;TZID=Europe/Madrid:20210508T190000
DTEND;TZID=Europe/Madrid:20210508T210000
DTSTAMP:20260421T110642
CREATED:20210317T173236Z
LAST-MODIFIED:20210505T103614Z
UID:1554-1620500400-1620507600@navarraenfemenino.com
SUMMARY:Navarra en femenino - Falces
DESCRIPTION:La venta de entradas se realiza en la Casa Museo en horario de apertura y en el Centro Cívico antes del espectáculo. Más información en el Facebook del Ayuntamiento de Falces. \n 
URL:https://navarraenfemenino.com/evento/navarra-en-femenino-falces
LOCATION:Centro Cívico Pedro Iturralde\, Plaza la Cruz\, 2\, Falces\, Navarra\, 31370\, España
ATTACH;FMTTYPE=image/jpeg:https://navarraenfemenino.com/wp-content/uploads/2021/01/cartel-teatro-logo-rojo-e1646126159669.jpg
ORGANIZER;CN="Navarra en Femenino":MAILTO:info@navarraenfemenino.com
END:VEVENT
BEGIN:VEVENT
DTSTART;TZID=Europe/Madrid:20210430T190000
DTEND;TZID=Europe/Madrid:20210430T210000
DTSTAMP:20260421T110642
CREATED:20210329T141733Z
LAST-MODIFIED:20210427T194814Z
UID:1566-1619809200-1619816400@navarraenfemenino.com
SUMMARY:Navarra en Femenino - Tafalla
DESCRIPTION:Ya puedes conseguir tus entradas.
URL:https://navarraenfemenino.com/evento/navarra-en-femenino-tafalla
LOCATION:Centro Cultural Tafalla Kulturgunea\, Calle Hortanco\, s/n\, Tafalla\, Navarra\, 31300\, España
ATTACH;FMTTYPE=image/jpeg:https://navarraenfemenino.com/wp-content/uploads/2021/01/cartel-teatro-logo-rojo-e1646126159669.jpg
ORGANIZER;CN="Navarra en Femenino":MAILTO:info@navarraenfemenino.com
END:VEVENT
BEGIN:VEVENT
DTSTART;TZID=Europe/Madrid:20210313T190000
DTEND;TZID=Europe/Madrid:20210313T190000
DTSTAMP:20260421T110642
CREATED:20210303T065839Z
LAST-MODIFIED:20210303T081808Z
UID:1507-1615662000-1615662000@navarraenfemenino.com
SUMMARY:Navarra en Femenino - Corella
DESCRIPTION:Ya puedes comprar tus entradas.
URL:https://navarraenfemenino.com/evento/navarra-en-femenino-corella
LOCATION:Centro Cultural de Corella\, Parque María Teresa Sáenz de Heredia\, 2\, Corella\, Navarra\, 31591\, España
ATTACH;FMTTYPE=image/jpeg:https://navarraenfemenino.com/wp-content/uploads/2021/01/cartel-teatro-logo-rojo-e1646126159669.jpg
ORGANIZER;CN="Navarra en Femenino":MAILTO:info@navarraenfemenino.com
END:VEVENT
BEGIN:VEVENT
DTSTART;TZID=Europe/Madrid:20210312T193000
DTEND;TZID=Europe/Madrid:20210312T193000
DTSTAMP:20260421T110642
CREATED:20210303T093950Z
LAST-MODIFIED:20210303T094343Z
UID:1529-1615577400-1615577400@navarraenfemenino.com
SUMMARY:Navarra en Femenino - Tudela
DESCRIPTION:Ya puedes conseguir tus entradas.
URL:https://navarraenfemenino.com/evento/navarra-en-femenino-tudela
LOCATION:Teatro Gaztambide\, Calle Camino San Marcial\, 27\, Tudela\, Navarra\, 31500\, España
ATTACH;FMTTYPE=image/jpeg:https://navarraenfemenino.com/wp-content/uploads/2021/01/cartel-teatro-logo-rojo-e1646126159669.jpg
ORGANIZER;CN="Navarra en Femenino":MAILTO:info@navarraenfemenino.com
END:VEVENT
BEGIN:VEVENT
DTSTART;TZID=Europe/Madrid:20210307T190000
DTEND;TZID=Europe/Madrid:20210307T190000
DTSTAMP:20260421T110642
CREATED:20210303T065024Z
LAST-MODIFIED:20210303T092717Z
UID:1502-1615143600-1615143600@navarraenfemenino.com
SUMMARY:Navarra en Femenino - Burlada
DESCRIPTION:Ya puedes comprar tus entradas.
URL:https://navarraenfemenino.com/evento/navarra-en-femenino-burlada
LOCATION:Casa de Cultura de Burlada\, Ronda de las Ventas\, 1\, Burlada\, Navarra\, 31600\, España
ATTACH;FMTTYPE=image/jpeg:https://navarraenfemenino.com/wp-content/uploads/2021/03/cartel-navarra-en-femenino-burlada.jpg
ORGANIZER;CN="Navarra en Femenino":MAILTO:info@navarraenfemenino.com
END:VEVENT
BEGIN:VEVENT
DTSTART;TZID=Europe/Madrid:20210306T190000
DTEND;TZID=Europe/Madrid:20210306T190000
DTSTAMP:20260421T110642
CREATED:20210302T152610Z
LAST-MODIFIED:20210303T092644Z
UID:1498-1615057200-1615057200@navarraenfemenino.com
SUMMARY:Navarra en Femenino - Marcilla
DESCRIPTION:Las entradas son gratuitas pero necesitan reservarse en los siguientes números de teléfono \n948 71 35 45 | 608 79 41 55
URL:https://navarraenfemenino.com/evento/navarra-en-femenino-marcilla
LOCATION:Casa de Cultura de Carcar\, plaza de los fueros\, 2\, Carcar\, Navarra\, 31579\, España
ATTACH;FMTTYPE=image/jpeg:https://navarraenfemenino.com/wp-content/uploads/2021/03/cartel-navarra-en-femenino-marcilla.jpg
ORGANIZER;CN="Navarra en Femenino":MAILTO:info@navarraenfemenino.com
END:VEVENT
END:VCALENDAR